BEGIN:VCALENDAR
VERSION:2.0
PRODID:icalendar-ruby
CALSCALE:GREGORIAN
METHOD:PUBLISH
BEGIN:VEVENT
DTSTAMP:20260420T063821Z
UID:12-273298@nationschurch.org.uk
DTSTART:20260916T090000Z
DTEND:20260916T120000Z
CLASS:PUBLIC
CREATED:20260420T042536
DESCRIPTION:
LAST-MODIFIED:20260420T042536
LOCATION:Location One
SUMMARY:Playdates
URL;VALUE=URI:https://www.nationschurch.org.uk/events/playdates/2026-09-16
ATTACH;FILENAME=Playdates.jpg;FMTTYPE=image/jpeg:https://dq5pwpg1q8ru0.clou
 dfront.net/2025/02/04/13/01/06/81dc1612-fe99-439c-a05b-95ee5a484d76/Playda
 tes.jpg
END:VEVENT
END:VCALENDAR
